BEGIN:VCALENDAR
VERSION:2.0
PRODID:-//The Psychoanalytic Center of California - ECPv6.15.20//NONSGML v1.0//EN
CALSCALE:GREGORIAN
METHOD:PUBLISH
X-ORIGINAL-URL:https://p-c-c.org
X-WR-CALDESC:Events for The Psychoanalytic Center of California
REFRESH-INTERVAL;VALUE=DURATION:PT1H
X-Robots-Tag:noindex
X-PUBLISHED-TTL:PT1H
BEGIN:VTIMEZONE
TZID:America/Los_Angeles
BEGIN:DAYLIGHT
TZOFFSETFROM:-0800
TZOFFSETTO:-0700
TZNAME:PDT
DTSTART:20230312T100000
END:DAYLIGHT
BEGIN:STANDARD
TZOFFSETFROM:-0700
TZOFFSETTO:-0800
TZNAME:PST
DTSTART:20231105T090000
END:STANDARD
BEGIN:DAYLIGHT
TZOFFSETFROM:-0800
TZOFFSETTO:-0700
TZNAME:PDT
DTSTART:20240310T100000
END:DAYLIGHT
BEGIN:STANDARD
TZOFFSETFROM:-0700
TZOFFSETTO:-0800
TZNAME:PST
DTSTART:20241103T090000
END:STANDARD
BEGIN:DAYLIGHT
TZOFFSETFROM:-0800
TZOFFSETTO:-0700
TZNAME:PDT
DTSTART:20250309T100000
END:DAYLIGHT
BEGIN:STANDARD
TZOFFSETFROM:-0700
TZOFFSETTO:-0800
TZNAME:PST
DTSTART:20251102T090000
END:STANDARD
END:VTIMEZONE
BEGIN:VEVENT
DTSTART;TZID=America/Los_Angeles:20240210T090000
DTEND;TZID=America/Los_Angeles:20240210T120000
DTSTAMP:20260425T163218
CREATED:20240124T203145Z
LAST-MODIFIED:20240124T203145Z
UID:28549-1707555600-1707566400@p-c-c.org
SUMMARY:Meg Harris Williams presents "Aesthetic Conflict in Infant Observation: The Developing Baby and the Developing Observer"
DESCRIPTION:Join us for a conference with featured presenter Meg Harris Williams.  In this program\, Ms. Williams will focus on the use of the ideas and methods of W.R. Bion and Esther Bick as developed by Martha Harris in the training model she established for child psychotherapists at the Tavistock Clinic.  Learn more.
URL:https://p-c-c.org/pcc-event/meg-harris-williams-presents-aesthetic-conflict-in-infant-observation-the-developing-baby-and-the-developing-observer/
LOCATION:Zoom online
CATEGORIES:Continuing Education Programs,PCC Events
END:VEVENT
END:VCALENDAR