BEGIN:VCALENDAR
VERSION:2.0
PRODID:-//The Psychoanalytic Center of California - ECPv6.15.20//NONSGML v1.0//EN
CALSCALE:GREGORIAN
METHOD:PUBLISH
X-ORIGINAL-URL:https://p-c-c.org
X-WR-CALDESC:Events for The Psychoanalytic Center of California
REFRESH-INTERVAL;VALUE=DURATION:PT1H
X-Robots-Tag:noindex
X-PUBLISHED-TTL:PT1H
BEGIN:VTIMEZONE
TZID:America/Los_Angeles
BEGIN:DAYLIGHT
TZOFFSETFROM:-0800
TZOFFSETTO:-0700
TZNAME:PDT
DTSTART:20230312T100000
END:DAYLIGHT
BEGIN:STANDARD
TZOFFSETFROM:-0700
TZOFFSETTO:-0800
TZNAME:PST
DTSTART:20231105T090000
END:STANDARD
BEGIN:DAYLIGHT
TZOFFSETFROM:-0800
TZOFFSETTO:-0700
TZNAME:PDT
DTSTART:20240310T100000
END:DAYLIGHT
BEGIN:STANDARD
TZOFFSETFROM:-0700
TZOFFSETTO:-0800
TZNAME:PST
DTSTART:20241103T090000
END:STANDARD
BEGIN:DAYLIGHT
TZOFFSETFROM:-0800
TZOFFSETTO:-0700
TZNAME:PDT
DTSTART:20250309T100000
END:DAYLIGHT
BEGIN:STANDARD
TZOFFSETFROM:-0700
TZOFFSETTO:-0800
TZNAME:PST
DTSTART:20251102T090000
END:STANDARD
END:VTIMEZONE
BEGIN:VEVENT
DTSTART;TZID=America/Los_Angeles:20241026T090000
DTEND;TZID=America/Los_Angeles:20241026T150000
DTSTAMP:20260425T041621
CREATED:20240722T202046Z
LAST-MODIFIED:20241003T164819Z
UID:28723-1729933200-1729954800@p-c-c.org
SUMMARY:2024 Melanie Klein Lectureship\, Melanie Klein's Narrative of an Adult Analysis
DESCRIPTION:PCC’s 2024 Annual Melanie Klein Lectureship will focus on Dr. Christine English’s new book\, Narrative of an Adult Analysis (2023)\, which is an exploration of the first record of Melanie Klein’s long treatment of an adult patient\, Mr. B.   Learn more. 
URL:https://p-c-c.org/pcc-event/melanie-klein-lectureship/
CATEGORIES:Continuing Education Programs,PCC Events
END:VEVENT
BEGIN:VEVENT
DTSTART;TZID=America/Los_Angeles:20241026T180000
DTEND;TZID=America/Los_Angeles:20241026T210000
DTSTAMP:20260425T041621
CREATED:20241023T172445Z
LAST-MODIFIED:20241023T172731Z
UID:28804-1729965600-1729976400@p-c-c.org
SUMMARY:Melanie Klein Lectureship Brunch on Dinner
DESCRIPTION:PCC Members and Candidates are invited to join Christine English for an intimate and elegant dinner at Lulu at the Hammer\, located in the courtyard of the Hammer Museum\, 10899 Wilshire Blvd\, Westwood\, 90024. Free self -parking is available at the Hammer\, with entrances on both Westwood Blvd and Lindbrook Blvd. Valet parking is $10. Learn more.
URL:https://p-c-c.org/pcc-event/melanie-klein-lectureship-brunch-on-sunday/
LOCATION:Lulu at the Hammer
CATEGORIES:Continuing Education Programs,PCC Candidates Only,PCC Members
END:VEVENT
END:VCALENDAR