BEGIN:VCALENDAR
VERSION:2.0
PRODID:-//The Psychoanalytic Center of California - ECPv6.15.20//NONSGML v1.0//EN
CALSCALE:GREGORIAN
METHOD:PUBLISH
X-WR-CALNAME:The Psychoanalytic Center of California
X-ORIGINAL-URL:https://p-c-c.org
X-WR-CALDESC:Events for The Psychoanalytic Center of California
REFRESH-INTERVAL;VALUE=DURATION:PT1H
X-Robots-Tag:noindex
X-PUBLISHED-TTL:PT1H
BEGIN:VTIMEZONE
TZID:America/Los_Angeles
BEGIN:DAYLIGHT
TZOFFSETFROM:-0800
TZOFFSETTO:-0700
TZNAME:PDT
DTSTART:20230312T100000
END:DAYLIGHT
BEGIN:STANDARD
TZOFFSETFROM:-0700
TZOFFSETTO:-0800
TZNAME:PST
DTSTART:20231105T090000
END:STANDARD
BEGIN:DAYLIGHT
TZOFFSETFROM:-0800
TZOFFSETTO:-0700
TZNAME:PDT
DTSTART:20240310T100000
END:DAYLIGHT
BEGIN:STANDARD
TZOFFSETFROM:-0700
TZOFFSETTO:-0800
TZNAME:PST
DTSTART:20241103T090000
END:STANDARD
BEGIN:DAYLIGHT
TZOFFSETFROM:-0800
TZOFFSETTO:-0700
TZNAME:PDT
DTSTART:20250309T100000
END:DAYLIGHT
BEGIN:STANDARD
TZOFFSETFROM:-0700
TZOFFSETTO:-0800
TZNAME:PST
DTSTART:20251102T090000
END:STANDARD
END:VTIMEZONE
BEGIN:VEVENT
DTSTART;TZID=America/Los_Angeles:20240615T090000
DTEND;TZID=America/Los_Angeles:20240615T120000
DTSTAMP:20260425T120059
CREATED:20240501T002758Z
LAST-MODIFIED:20240501T003908Z
UID:28638-1718442000-1718452800@p-c-c.org
SUMMARY:Toward a Jung/Bion Dialogue: W.R. Bion's Reading of C.G. Jung's Memories\, Dreams and Reflections
DESCRIPTION:Join us for an engaging conference with featured speaker Dr. Joseph Aguayo titled; “Toward a Jung/Bion Dialogue: W.R. Bion’s Reading of C.G. Jung’s Memories\, Dreams and Reflections“.  Learn more.
URL:https://p-c-c.org/pcc-event/toward-a-jung-bion-dialogue-w-r-bions-reading-of-c-g-jungs-memories-dreams-and-reflections/
LOCATION:Hybrid – In-Person and Virtual\, 3200 Motor Avenue\, Los Angeles\, 90034\, United States
CATEGORIES:Continuing Education Programs,PCC Events
END:VEVENT
END:VCALENDAR