BEGIN:VCALENDAR
VERSION:2.0
PRODID:-//The Psychoanalytic Center of California - ECPv6.15.20//NONSGML v1.0//EN
CALSCALE:GREGORIAN
METHOD:PUBLISH
X-ORIGINAL-URL:https://p-c-c.org
X-WR-CALDESC:Events for The Psychoanalytic Center of California
REFRESH-INTERVAL;VALUE=DURATION:PT1H
X-Robots-Tag:noindex
X-PUBLISHED-TTL:PT1H
BEGIN:VTIMEZONE
TZID:America/Los_Angeles
BEGIN:DAYLIGHT
TZOFFSETFROM:-0800
TZOFFSETTO:-0700
TZNAME:PDT
DTSTART:20230312T100000
END:DAYLIGHT
BEGIN:STANDARD
TZOFFSETFROM:-0700
TZOFFSETTO:-0800
TZNAME:PST
DTSTART:20231105T090000
END:STANDARD
BEGIN:DAYLIGHT
TZOFFSETFROM:-0800
TZOFFSETTO:-0700
TZNAME:PDT
DTSTART:20240310T100000
END:DAYLIGHT
BEGIN:STANDARD
TZOFFSETFROM:-0700
TZOFFSETTO:-0800
TZNAME:PST
DTSTART:20241103T090000
END:STANDARD
BEGIN:DAYLIGHT
TZOFFSETFROM:-0800
TZOFFSETTO:-0700
TZNAME:PDT
DTSTART:20250309T100000
END:DAYLIGHT
BEGIN:STANDARD
TZOFFSETFROM:-0700
TZOFFSETTO:-0800
TZNAME:PST
DTSTART:20251102T090000
END:STANDARD
END:VTIMEZONE
BEGIN:VEVENT
DTSTART;TZID=America/Los_Angeles:20240914T090000
DTEND;TZID=America/Los_Angeles:20240914T120000
DTSTAMP:20260425T073238
CREATED:20240822T211953Z
LAST-MODIFIED:20240822T211953Z
UID:28737-1726304400-1726315200@p-c-c.org
SUMMARY:Radical Rethinking:  A Future for Psychoanalysis Beyond the Individual Unconscious
DESCRIPTION:In this program Dr. Francisco Gonzalez will discuss Radical Rethinking: A Future for Psychoanalysis Beyond the Individual Unconscious.  Learn More
URL:https://p-c-c.org/pcc-event/radical-rethinking-a-future-for-psychoanalysis-beyond-the-individual-unconscious/
LOCATION:Hybrid – In-Person and Virtual\, 3200 Motor Avenue\, Los Angeles\, 90034\, United States
CATEGORIES:Continuing Education Programs,PCC Events
END:VEVENT
END:VCALENDAR