BEGIN:VCALENDAR
VERSION:2.0
PRODID:-//The Psychoanalytic Center of California - ECPv6.15.20//NONSGML v1.0//EN
CALSCALE:GREGORIAN
METHOD:PUBLISH
X-ORIGINAL-URL:https://p-c-c.org
X-WR-CALDESC:Events for The Psychoanalytic Center of California
REFRESH-INTERVAL;VALUE=DURATION:PT1H
X-Robots-Tag:noindex
X-PUBLISHED-TTL:PT1H
BEGIN:VTIMEZONE
TZID:UTC
BEGIN:STANDARD
TZOFFSETFROM:+0000
TZOFFSETTO:+0000
TZNAME:UTC
DTSTART:20210101T000000
END:STANDARD
END:VTIMEZONE
BEGIN:VTIMEZONE
TZID:America/Los_Angeles
BEGIN:DAYLIGHT
TZOFFSETFROM:-0800
TZOFFSETTO:-0700
TZNAME:PDT
DTSTART:20170312T100000
END:DAYLIGHT
BEGIN:STANDARD
TZOFFSETFROM:-0700
TZOFFSETTO:-0800
TZNAME:PST
DTSTART:20171105T090000
END:STANDARD
BEGIN:DAYLIGHT
TZOFFSETFROM:-0800
TZOFFSETTO:-0700
TZNAME:PDT
DTSTART:20180311T100000
END:DAYLIGHT
BEGIN:STANDARD
TZOFFSETFROM:-0700
TZOFFSETTO:-0800
TZNAME:PST
DTSTART:20181104T090000
END:STANDARD
BEGIN:DAYLIGHT
TZOFFSETFROM:-0800
TZOFFSETTO:-0700
TZNAME:PDT
DTSTART:20190310T100000
END:DAYLIGHT
BEGIN:STANDARD
TZOFFSETFROM:-0700
TZOFFSETTO:-0800
TZNAME:PST
DTSTART:20191103T090000
END:STANDARD
BEGIN:DAYLIGHT
TZOFFSETFROM:-0800
TZOFFSETTO:-0700
TZNAME:PDT
DTSTART:20200308T100000
END:DAYLIGHT
BEGIN:STANDARD
TZOFFSETFROM:-0700
TZOFFSETTO:-0800
TZNAME:PST
DTSTART:20201101T090000
END:STANDARD
BEGIN:DAYLIGHT
TZOFFSETFROM:-0800
TZOFFSETTO:-0700
TZNAME:PDT
DTSTART:20210314T100000
END:DAYLIGHT
BEGIN:STANDARD
TZOFFSETFROM:-0700
TZOFFSETTO:-0800
TZNAME:PST
DTSTART:20211107T090000
END:STANDARD
BEGIN:DAYLIGHT
TZOFFSETFROM:-0800
TZOFFSETTO:-0700
TZNAME:PDT
DTSTART:20220313T100000
END:DAYLIGHT
BEGIN:STANDARD
TZOFFSETFROM:-0700
TZOFFSETTO:-0800
TZNAME:PST
DTSTART:20221106T090000
END:STANDARD
BEGIN:DAYLIGHT
TZOFFSETFROM:-0800
TZOFFSETTO:-0700
TZNAME:PDT
DTSTART:20230312T100000
END:DAYLIGHT
BEGIN:STANDARD
TZOFFSETFROM:-0700
TZOFFSETTO:-0800
TZNAME:PST
DTSTART:20231105T090000
END:STANDARD
END:VTIMEZONE
BEGIN:VEVENT
DTSTART;TZID=UTC:20220611T090000
DTEND;TZID=UTC:20220611T120000
DTSTAMP:20260423T132022
CREATED:20220426T224709Z
LAST-MODIFIED:20220426T224718Z
UID:28063-1654938000-1654948800@p-c-c.org
SUMMARY:Transforming Ghosts into Ancestors: Un-silencing the Psychological Case for Reparations to Descendants of American Slavery with Dr. Bryan Nichols and Dr. Medria Connolly
DESCRIPTION:Drs. Nichols and Connolly have been deeply involved with offering presentations about reparations from a psychological perspective for the past several years. Recently they have been tracking\, and have presented in\, California’s historic first ever state effort to offer reparations to African American residents for the state’s complicity and involvement in slavery\, arguing in favor of the intensely contested idea of the legacies of slavery. “Eligibility” for reparations is a key theme in these discussions\, as it has been since slavery ended in the United States. The core target is the moral injury which involves a call to action by institutions that should be able to use their theoretical expertise\, including psychoanalysis\, to understand and perhaps advocate for reparations\, a suggestion for healing multigenerational harm. Learn more.
URL:https://p-c-c.org/pcc-event/transforming-ghosts-into-ancestors-un-silencing-the-psychological-case-for-reparations-to-descendants-of-american-slavery-with-dr-bryan-nichols-and-dr-medria-connolly/
LOCATION:Zoom online
CATEGORIES:Continuing Education Programs,PCC Events
END:VEVENT
BEGIN:VEVENT
DTSTART;TZID=UTC:20220514T090000
DTEND;TZID=UTC:20220514T120000
DTSTAMP:20260423T132022
CREATED:20220426T223937Z
LAST-MODIFIED:20220426T223937Z
UID:28061-1652518800-1652529600@p-c-c.org
SUMMARY:On the Nature of Transference Interpretation and Why only it Can Bring about Analytic Change: A Kleinian Perspective Grounded in Freud with Professor Rachel Blass and Dr. Jennifer Kunst
DESCRIPTION:Professor Rachel Blass has published seminal papers on Kleinian theory and practice. Aware of the concerns as well as interest around certain Kleinian ideas\, she outlines and develops the meaning of such analytic inquiries as the meaning of the dream\, the desire for knowledge\, doubt and conviction\, the role of repetition\, psychoanalytic ethics and morality. She develops her ideas grounded in theory and with arguments for and against her thoughts presented clearly and poignantly. She has an active analytic practice as well as a long teaching career in universities and analytic societies.\n\nDuring the first half of our program\, Dr. Blass will read a paper titled “On the nature of transference interpretation and why only it can bring about analytic change: A Kleinian perspective grounded in Freud” During the second half of the program\, PCC member Jennifer Kunst will interview Dr. Blass about an article she wrote titled “The teaching of Klein: some guidelines for opening students to the heart of Kleinian thinking and practice. Learn more.
URL:https://p-c-c.org/pcc-event/on-the-nature-of-transference-interpretation-and-why-only-it-can-bring-about-analytic-change-a-kleinian-perspective-grounded-in-freud-with-professor-rachel-blass-and-dr-jennifer-kunst/
LOCATION:Zoom online
CATEGORIES:Continuing Education Programs,PCC Events
END:VEVENT
BEGIN:VEVENT
DTSTART;TZID=UTC:20220430T090000
DTEND;TZID=UTC:20220430T120000
DTSTAMP:20260423T132022
CREATED:20220426T223223Z
LAST-MODIFIED:20220426T223356Z
UID:28058-1651309200-1651320000@p-c-c.org
SUMMARY:Getting to Know Splitting as an Organizing Phantasy\, Then and Today with Claudia Frank\, MD and Deborah Bilder\, Ph.D.\, Psy.D.
DESCRIPTION:During the first half of the program\, Dr. Frank will present a clinical paper including a detailed analysis of some drawings of one of Klein’s little patients\, Erna. From the beginning\, Melanie Klein was interested in the unconscious phantasies underlying the child’s different activities. As her career developed\, she began to grasp more basic structural unconscious phantasies governing the psychic functioning of her small patients. In her paper\, Dr. Frank shows us how Klein’s struggle to understand Erna’s movements in the analytic situation led her to formulate “the fragmentation of the personality into two parts” and to describe the dynamics of splitting for the first time (in a manuscript not published by Klein). In today’s analytic work we can build on that understanding of splitting as an early defensive maneuver. We experience it in the transference-countertransference situation. In interpreting and working it through with the patient\, we can enable a process of getting to know one’s organizing/structuring unconscious phantasy\, thus having the chance to transform (parts of) it. Dr. Frank will present a few vignettes from the analysis of an adult patient with an obsessive-compulsive disorder. During the second half of the program\, PCC member Deborah Bilder will interview Dr. Frank about her commitments on the international level regarding psychoanalytic training including supervision of candidates\, infant observation\, and the Eitingon model. Learn more.
URL:https://p-c-c.org/pcc-event/getting-to-know-splitting-as-an-organizing-phantasy-then-and-today-with-claudia-frank-md-and-deborah-bilder-ph-d-psy-d/
LOCATION:Zoom online
CATEGORIES:Continuing Education Programs,PCC Events
END:VEVENT
BEGIN:VEVENT
DTSTART;TZID=America/Los_Angeles:20220226T090000
DTEND;TZID=America/Los_Angeles:20220226T121500
DTSTAMP:20260423T132023
CREATED:20220113T233045Z
LAST-MODIFIED:20220126T200145Z
UID:27974-1645866000-1645877700@p-c-c.org
SUMMARY:Dialogue Across Difference: Sociocultural And Clinical Realms with Salman Akhtar\, MD
DESCRIPTION:In this program\, Dr. Salman Akhtar will discuss the Dialogue Across Difference:  Sociocultural and Clinical Realms. Learn more.
URL:https://p-c-c.org/pcc-event/dialogue-across-difference-sociocultural-and-clinical-differences-with-salman-akhtar-md/
LOCATION:Zoom online
CATEGORIES:Continuing Education Programs,PCC Events
END:VEVENT
BEGIN:VEVENT
DTSTART;TZID=America/Los_Angeles:20211106T090000
DTEND;TZID=America/Los_Angeles:20211106T140000
DTSTAMP:20260423T132023
CREATED:20211013T160644Z
LAST-MODIFIED:20211013T160644Z
UID:27811-1636189200-1636207200@p-c-c.org
SUMMARY:The Claustro-Agoraphobic Dilemma: Between Intimacy and Separation in Interpersonal Relationships
DESCRIPTION:In this online continuing education conference\, jointly sponsored by PCC and NCP\, Dr. Weiss explores the space between closeness and abandonment— the claustro-agoraphobic dilemma of the patient who cannot escape from the position of feeling either trapped in intimate relationships or abandoned by them. He examines issues of how guilt and concrete thinking affect the analyst’s countertransference. Dr. Weiss illuminates how trauma is complicated with fear\, shame\, and rage\, creating a tortuous path toward forgiveness and difficulty in easing a cruel superego.
URL:https://p-c-c.org/pcc-event/the-claustro-agoraphobic-dilemma-between-intimacy-and-separation-in-interpersonal-relationships/
LOCATION:Zoom online
CATEGORIES:Continuing Education Programs,PCC Events
END:VEVENT
BEGIN:VEVENT
DTSTART;TZID=America/Los_Angeles:20190423T200000
DTEND;TZID=America/Los_Angeles:20190423T220000
DTSTAMP:20260423T132023
CREATED:20190218T235739Z
LAST-MODIFIED:20190218T235739Z
UID:23072-1556049600-1556056800@p-c-c.org
SUMMARY:Grotstein Memorial Lecture #3
DESCRIPTION:This series of 3 presentations in Los Angeles\, the James Grotstein Memorial Lectures\, honors his work in comparative psychoanalytic theory and is sponsored by NCP\, PCC and LAIPS. Stay tuned for more details!
URL:https://p-c-c.org/pcc-event/grotstein-memorial-lecture-3/
LOCATION:New Center for Psychoanalysis\, 2014 Sawtelle Blvd.\, Los Angeles\, CA\, 90025\, United States
CATEGORIES:Continuing Education Programs,Institute or Society Meetings
END:VEVENT
BEGIN:VEVENT
DTSTART;TZID=America/Los_Angeles:20190418T200000
DTEND;TZID=America/Los_Angeles:20190418T220000
DTSTAMP:20260423T132023
CREATED:20190218T235613Z
LAST-MODIFIED:20190218T235613Z
UID:23070-1555617600-1555624800@p-c-c.org
SUMMARY:Grostein Memorial Lecture #2
DESCRIPTION:This series of 3 presentations in Los Angeles\, the James Grotstein Memorial Lectures\, honors his work in comparative psychoanalytic theory and is sponsored by NCP\, PCC and LAIPS. Stay tuned for more details!
URL:https://p-c-c.org/pcc-event/grostein-memorial-lecture-2/
LOCATION:New Center for Psychoanalysis\, 2014 Sawtelle Blvd.\, Los Angeles\, CA\, 90025\, United States
CATEGORIES:Continuing Education Programs,Institute or Society Meetings
END:VEVENT
BEGIN:VEVENT
DTSTART;TZID=America/Los_Angeles:20190328T200000
DTEND;TZID=America/Los_Angeles:20190328T213000
DTSTAMP:20260423T132023
CREATED:20190218T235343Z
LAST-MODIFIED:20190218T235841Z
UID:23068-1553803200-1553808600@p-c-c.org
SUMMARY:Grotstein Memorial Lecture #1
DESCRIPTION:This series of 3 presentations in Los Angeles\, the James Grotstein Memorial Lectures\, honors his work in comparative psychoanalytic theory and is sponsored by NCP\, PCC and LAIPS. Stay tuned for more details!
URL:https://p-c-c.org/pcc-event/grotstein-memorial-lecture-1/
LOCATION:New Center for Psychoanalysis\, 2014 Sawtelle Blvd.\, Los Angeles\, CA\, 90025\, United States
CATEGORIES:Continuing Education Programs,Institute or Society Meetings
END:VEVENT
BEGIN:VEVENT
DTSTART;TZID=America/Los_Angeles:20190324T100000
DTEND;TZID=America/Los_Angeles:20190324T120000
DTSTAMP:20260423T132023
CREATED:20190129T222807Z
LAST-MODIFIED:20190129T223019Z
UID:22751-1553421600-1553428800@p-c-c.org
SUMMARY:9th Annual Wilfred Bion Member Master Class (Members & Recent PCC Graduates only)
DESCRIPTION:The 9th Annual Wilfred Bion Member Master Class is open to PCC Members and recent graduates only!
URL:https://p-c-c.org/pcc-event/9th-annual-wilfred-bion-member-master-class/
CATEGORIES:Continuing Education Programs,PCC Events,PCC Members
ATTACH;FMTTYPE=image/jpeg:https://p-c-c.org/wp-content/uploads/2019/01/GiuseppeCivitarese.jpg
END:VEVENT
BEGIN:VEVENT
DTSTART;TZID=America/Los_Angeles:20190323T090000
DTEND;TZID=America/Los_Angeles:20190323T153000
DTSTAMP:20260423T132023
CREATED:20171213T042951Z
LAST-MODIFIED:20190320T153900Z
UID:20284-1553331600-1553355000@p-c-c.org
SUMMARY:9th Annual Wilfred Bion Conference with Dr. Civitarese
DESCRIPTION:Join us for the 9th Annual Wilfred Bion Conference on Saturday\, March 23\, 2019 from 9:00am-3:15pm.  Learn more. \nRegister here
URL:https://p-c-c.org/pcc-event/9th-annual-wilfred-bion-conference-with-giuseppe-civitarese/
LOCATION:New Center for Psychoanalysis\, 2014 Sawtelle Blvd.\, Los Angeles\, CA\, 90025\, United States
CATEGORIES:Continuing Education Programs,PCC Events
END:VEVENT
BEGIN:VEVENT
DTSTART;TZID=America/Los_Angeles:20190321T193000
DTEND;TZID=America/Los_Angeles:20190321T213000
DTSTAMP:20260423T132023
CREATED:20190129T221436Z
LAST-MODIFIED:20190320T153947Z
UID:22742-1553196600-1553203800@p-c-c.org
SUMMARY:An Evening with Giuseppe Civitarese
DESCRIPTION:Join us for An Evening with Dr. Giuseppe Civitarese on Thursday\, March 21\, 2019 from 7:30pm-9:30pm”. Learn more. \nRegister here
URL:https://p-c-c.org/pcc-event/waiting-about-the-bionian-concept-of-negative-capacity-in-conjunction-with-pccs-9th-annual-wilfred-bion-conferenhce/
LOCATION:New Center for Psychoanalysis\, 2014 Sawtelle Blvd.\, Los Angeles\, CA\, 90025\, United States
CATEGORIES:Continuing Education Programs,PCC Events
ATTACH;FMTTYPE=image/jpeg:https://p-c-c.org/wp-content/uploads/2019/01/GiuseppeCivitarese.jpg
END:VEVENT
BEGIN:VEVENT
DTSTART;TZID=America/Los_Angeles:20190313T193000
DTEND;TZID=America/Los_Angeles:20190313T210000
DTSTAMP:20260423T132023
CREATED:20190129T223855Z
LAST-MODIFIED:20190204T213902Z
UID:22761-1552505400-1552510800@p-c-c.org
SUMMARY:Pre-conference Reading Series
DESCRIPTION:The four-session pre-conference reading group will take place on Wednesday\, February 20\, 2019\,  February 27\, 2019\,  March 6\, 2019 and March 13\, 2019. This pre-conference reading group is open to PCC members\, candidates\, PPP students\, and PPP graduates.  We will discuss four papers selected by Dr. Civitarese in preparation for his presentations for the 9th Annual Wilfred Bion Conference on March 23\, 2019
URL:https://p-c-c.org/pcc-event/9th-annual-wilfred-bion-pre-conference-reading-group-w-dr-giuseppe-civitarese-3/
CATEGORIES:Continuing Education Programs
ATTACH;FMTTYPE=image/jpeg:https://p-c-c.org/wp-content/uploads/2019/01/GiuseppeCivitarese.jpg
END:VEVENT
BEGIN:VEVENT
DTSTART;TZID=America/Los_Angeles:20190306T193000
DTEND;TZID=America/Los_Angeles:20190306T210000
DTSTAMP:20260423T132023
CREATED:20190129T223705Z
LAST-MODIFIED:20190204T213950Z
UID:22759-1551900600-1551906000@p-c-c.org
SUMMARY:Pre-Conference Reading Series
DESCRIPTION:The four-session pre-conference reading group will take place on Wednesday\, February 20\, 2019\,  February 27\, 2019\,  March 6\, 2019 and March 13\, 2019. This pre-conference reading group is open to PCC members\, candidates\, PPP students\, and PPP graduates.  We will discuss four papers selected by Dr. Civitarese in preparation for his presentations for the 9th Annual Wilfred Bion Conference on March 23\, 2019
URL:https://p-c-c.org/pcc-event/9th-annual-wilfred-bion-pre-conference-reading-group-w-dr-giuseppe-civitarese-2/
CATEGORIES:Continuing Education Programs
ATTACH;FMTTYPE=image/jpeg:https://p-c-c.org/wp-content/uploads/2019/01/GiuseppeCivitarese.jpg
END:VEVENT
BEGIN:VEVENT
DTSTART;TZID=America/Los_Angeles:20190227T193000
DTEND;TZID=America/Los_Angeles:20190227T210000
DTSTAMP:20260423T132023
CREATED:20190129T223516Z
LAST-MODIFIED:20190204T214020Z
UID:22757-1551295800-1551301200@p-c-c.org
SUMMARY:Pre-Conference Reading Series
DESCRIPTION:The four-session pre-conference reading group will take place on Wednesday\, February 20\, 2019\,  February 27\, 2019\,  March 6\, 2019 and March 13\, 2019. This pre-conference reading group is open to PCC members\, candidates\, PPP students\, and PPP graduates.  We will discuss four papers selected by Dr. Civitarese in preparation for his presentations for the 9th Annual Wilfred Bion Conference on March 23\, 2019
URL:https://p-c-c.org/pcc-event/9th-annual-wilfred-bion-pre-conference-reading-group-w-dr-giuseppe-civitarese/
CATEGORIES:Continuing Education Programs
ATTACH;FMTTYPE=image/jpeg:https://p-c-c.org/wp-content/uploads/2019/01/GiuseppeCivitarese.jpg
END:VEVENT
BEGIN:VEVENT
DTSTART;TZID=America/Los_Angeles:20190113T133000
DTEND;TZID=America/Los_Angeles:20190113T153000
DTSTAMP:20260423T132023
CREATED:20181206T213508Z
LAST-MODIFIED:20181206T220754Z
UID:22392-1547386200-1547393400@p-c-c.org
SUMMARY:30th Annual Melanie Klein Candidate Master Class
DESCRIPTION:This Master Class with Dr. Daniel Pick is open to PCC Candidates only!  Learn more.   Register Here.
URL:https://p-c-c.org/pcc-event/30th-annual-melanie-klein-candidate-master-class/
LOCATION:PCC Office Classroom\, 11500 W. Olympic Blvd.\, Suite 445\, Los Angeles\, CA\, 90064\, United States
CATEGORIES:Continuing Education Programs,PCC Candidates Only
END:VEVENT
BEGIN:VEVENT
DTSTART;TZID=America/Los_Angeles:20190113T100000
DTEND;TZID=America/Los_Angeles:20190113T120000
DTSTAMP:20260423T132023
CREATED:20181206T211312Z
LAST-MODIFIED:20181206T221821Z
UID:22385-1547373600-1547380800@p-c-c.org
SUMMARY:30th Annual Klein Member Master Class w/Dr. Daniel Pick
DESCRIPTION:This master class with Dr. Daniel Pick is open to PCC Members only.  Learn more.  Register Here.
URL:https://p-c-c.org/pcc-event/30th-annual-klein-member-master-class-w-dr-daniel-pick/
LOCATION:PCC Office Classroom\, 11500 W. Olympic Blvd.\, Suite 445\, Los Angeles\, CA\, 90064\, United States
CATEGORIES:Continuing Education Programs,PCC Members
END:VEVENT
BEGIN:VEVENT
DTSTART;TZID=America/Los_Angeles:20190112T090000
DTEND;TZID=America/Los_Angeles:20190112T160000
DTSTAMP:20260423T132023
CREATED:20171213T042835Z
LAST-MODIFIED:20181206T212807Z
UID:20282-1547283600-1547308800@p-c-c.org
SUMMARY:30th Annual Melanie Klein Lecture with Daniel Pick
DESCRIPTION:London’s Daniel Pick will be exploring Hidden Persuasion: Psychoanalysis\, Culture\, and Politics in an Age of Extremes at this year’s Klein Lecture. Join us! Learn more… \nRegister Here. \nRegister here
URL:https://p-c-c.org/pcc-event/30th-annual-melanie-klein-lecture-with-daniel-pick/
LOCATION:PCC Conference Center\, 11500 W. Olympic Blvd. Suite 505\, Los Angeles\, CA\, 90064
CATEGORIES:Continuing Education Programs,PCC Events
END:VEVENT
BEGIN:VEVENT
DTSTART;TZID=America/Los_Angeles:20190109T193000
DTEND;TZID=America/Los_Angeles:20190109T210000
DTSTAMP:20260423T132023
CREATED:20181206T204906Z
LAST-MODIFIED:20181206T213041Z
UID:22380-1547062200-1547067600@p-c-c.org
SUMMARY:30th Annual Melanie Klein Pre-Conference Workshop
DESCRIPTION:The PCC Continuing Education Committee is pleased to offer this pre-conference workshop facilitated by Dr. Jennifer Langham. The event is open to PCC members\, candidates\, PPP students and graduates. In preparation for this exploration of Dr. Pick’s work\, please read the introduction to Psychoanalysis in the Age of Totalitarianism as well as Chapters 11 and 12 in The Pursuit of the Nazi Mind. A link to these readings is provided below. Learn more. \nRegister Here
URL:https://p-c-c.org/pcc-event/30th-annual-melanie-klein-pre-conference-workshop/
LOCATION:PCC Office Classroom\, 11500 W. Olympic Blvd.\, Suite 445\, Los Angeles\, CA\, 90064\, United States
CATEGORIES:Continuing Education Programs,PPP Students & Graduates Only
END:VEVENT
BEGIN:VEVENT
DTSTART;TZID=America/Los_Angeles:20181109T180000
DTEND;TZID=America/Los_Angeles:20181110T180000
DTSTAMP:20260423T132023
CREATED:20171213T041803Z
LAST-MODIFIED:20180829T161615Z
UID:20272-1541786400-1541872800@p-c-c.org
SUMMARY:COWAP Conference (Committee on Women and Psychoanalysis)
DESCRIPTION:IPA’s Committee on Women and Psychoanalysis (COWAP) joins PCC\, NCP\, and LAISPS in presenting this Los Angeles conference\, “Psychic Survival in the Face of Misogyny: The Dialectic Betwen the Internal and External Glass Ceiling”\, featuring IPA’s new president\, Virginia Ungar. Learn more… \n\nRegister here
URL:https://p-c-c.org/pcc-event/cowap-conference-committee-on-women-and-psychoanalysis/
LOCATION:Luxe Hotel\, 11461 Sunset Blvd\, Los Angeles\, CA\, 90049
CATEGORIES:Continuing Education Programs,PCC Events
END:VEVENT
BEGIN:VEVENT
DTSTART;TZID=America/Los_Angeles:20180915T130000
DTEND;TZID=America/Los_Angeles:20180915T163000
DTSTAMP:20260423T132023
CREATED:20171213T042326Z
LAST-MODIFIED:20180829T233614Z
UID:20278-1537016400-1537029000@p-c-c.org
SUMMARY:Gillian Isaacs Russell on Screen Relations
DESCRIPTION:Join us for our fall kick-off event\, featuring Dr. Gillian Isaacs Russell talking about her book “Screen Relations: The Limitations of Computer-mediated Psychoanalysis and Therapy.”  Learn more… \n\nRegister here
URL:https://p-c-c.org/pcc-event/gillian-isaacs-russell-on-screen-relations/
LOCATION:New Center for Psychoanalysis\, 2014 Sawtelle Blvd.\, Los Angeles\, CA\, 90025\, United States
CATEGORIES:Continuing Education Programs,PCC Events
END:VEVENT
BEGIN:VEVENT
DTSTART;TZID=America/Los_Angeles:20180721T080000
DTEND;TZID=America/Los_Angeles:20180722T163000
DTSTAMP:20260423T132023
CREATED:20171213T041403Z
LAST-MODIFIED:20180605T181303Z
UID:20268-1532160000-1532277000@p-c-c.org
SUMMARY:Mark Solms - Clinical Workshop on Neuropsychoanalysis
DESCRIPTION:Licensed health professionals are invited to this 2 day event\, A Practical Introduction to Neuropsychoanalysis: Clinical Implications\, featuring Dr. Mark Solms of South Africa. Learn more… \nRegister here
URL:https://p-c-c.org/pcc-event/mark-solms-clinical-workshop-on-neuropsychoanalysis/
LOCATION:New Center for Psychoanalysis\, 2014 Sawtelle Blvd.\, Los Angeles\, CA\, 90025\, United States
CATEGORIES:Continuing Education Programs,PCC Events
END:VEVENT
BEGIN:VEVENT
DTSTART;TZID=America/Los_Angeles:20180603T133000
DTEND;TZID=America/Los_Angeles:20180603T153000
DTSTAMP:20260423T132023
CREATED:20180507T011851Z
LAST-MODIFIED:20180507T011924Z
UID:21147-1528032600-1528039800@p-c-c.org
SUMMARY:PCC Candidate Master Class
DESCRIPTION:This master class with Dr. Margot Waddell is open to PCC candidates only. Register here
URL:https://p-c-c.org/pcc-event/pcc-candidate-master-class-2/
LOCATION:PCC Office Classroom\, 11500 W. Olympic Blvd.\, Suite 445\, Los Angeles\, CA\, 90064\, United States
CATEGORIES:Continuing Education Programs,PCC Events
END:VEVENT
BEGIN:VEVENT
DTSTART;TZID=America/Los_Angeles:20180603T100000
DTEND;TZID=America/Los_Angeles:20180603T120000
DTSTAMP:20260423T132023
CREATED:20180507T011601Z
LAST-MODIFIED:20180507T011601Z
UID:21145-1528020000-1528027200@p-c-c.org
SUMMARY:PCC Member Master Class
DESCRIPTION:This master class with Dr. Margot Waddell is open to PCC members only. Register here
URL:https://p-c-c.org/pcc-event/pcc-member-master-class-2/
LOCATION:PCC Office Classroom\, 11500 W. Olympic Blvd.\, Suite 445\, Los Angeles\, CA\, 90064\, United States
CATEGORIES:Continuing Education Programs,PCC Events
END:VEVENT
BEGIN:VEVENT
DTSTART;TZID=America/Los_Angeles:20180602T190000
DTEND;TZID=America/Los_Angeles:20180602T210000
DTSTAMP:20260423T132023
CREATED:20180507T012234Z
LAST-MODIFIED:20180507T012234Z
UID:21150-1527966000-1527973200@p-c-c.org
SUMMARY:PCC Member Dinner
DESCRIPTION:PCC members and their guests are invited to a dinner in honor of Margot Waddell on the occasion of the 29th Annual Melanie Klein Lecture. Register here
URL:https://p-c-c.org/pcc-event/pcc-member-dinner-2/
LOCATION:Upstairs 2 Restaurant\, 2311 Cotner Ave.\, Los Angeles\, CA\, 90048
CATEGORIES:Continuing Education Programs,PCC Events
END:VEVENT
BEGIN:VEVENT
DTSTART;TZID=America/Los_Angeles:20180602T090000
DTEND;TZID=America/Los_Angeles:20180602T160000
DTSTAMP:20260423T132023
CREATED:20170710T192304Z
LAST-MODIFIED:20180417T181617Z
UID:19064-1527930000-1527955200@p-c-c.org
SUMMARY:29th Annual Melanie Klein Lecture with Margot Waddell
DESCRIPTION:Margot Waddell\, British psychoanalyst and author of the new book “On Adolescence\,” is the keynote speaker for PCC’s annual Melanie Klein lecture.  Learn more… \nRegister here
URL:https://p-c-c.org/pcc-event/29th-annual-melanie-klein-lecture-with-ron-britton/
LOCATION:PCC Conference Center\, 11500 W. Olympic Blvd. Suite 505\, Los Angeles\, CA\, 90064
CATEGORIES:Continuing Education Programs,PCC Events
END:VEVENT
BEGIN:VEVENT
DTSTART;TZID=America/Los_Angeles:20180523T193000
DTEND;TZID=America/Los_Angeles:20180523T210000
DTSTAMP:20260423T132023
CREATED:20180507T010807Z
LAST-MODIFIED:20180507T011225Z
UID:21140-1527103800-1527109200@p-c-c.org
SUMMARY:Joe Aguayo discusses Margot Waddell's "Inside Lives"
DESCRIPTION:PCC members\, candidates\, and students/grads of the PPP are invited to a discussion of Margot Waddell’s best known work\, “Inside Lives: Psychoanalysis and the Growth of the Personality”\, led by Joe Aguayo. Dr. Waddell is the keynote speaker for the Klein lecture to be held on June 2\, 2018. Join us for this free event sponsored by the CE committee!
URL:https://p-c-c.org/pcc-event/joe-aguayo-discusses-margot-waddells-inside-lives/
LOCATION:PCC Office Classroom\, 11500 W. Olympic Blvd.\, Suite 445\, Los Angeles\, CA\, 90064\, United States
CATEGORIES:Continuing Education Programs,PCC Events
END:VEVENT
BEGIN:VEVENT
DTSTART;TZID=America/Los_Angeles:20180520T140000
DTEND;TZID=America/Los_Angeles:20180520T170000
DTSTAMP:20260423T132023
CREATED:20171213T042708Z
LAST-MODIFIED:20180502T181023Z
UID:20280-1526824800-1526835600@p-c-c.org
SUMMARY:Desy Safan Gerard Book Launch
DESCRIPTION:Join us to celebrate the publishing of Dr. Desy Safan Gerard’s new book\, Chaos and Control: A Psychoanalytic Perspective on Unfolding Creative Minds\, published this spring by Karnac. Learn more…
URL:https://p-c-c.org/pcc-event/desy-safan-gerard-book-launch/
LOCATION:New Center for Psychoanalysis\, 2014 Sawtelle Blvd.\, Los Angeles\, CA\, 90025\, United States
CATEGORIES:Continuing Education Programs,PCC Events
END:VEVENT
BEGIN:VEVENT
DTSTART;TZID=America/Los_Angeles:20180405T200000
DTEND;TZID=America/Los_Angeles:20180405T220000
DTSTAMP:20260423T132023
CREATED:20180312T174713Z
LAST-MODIFIED:20180313T042412Z
UID:20868-1522958400-1522965600@p-c-c.org
SUMMARY:Lectures in Comparative Psychoanalysis\, Part 3
DESCRIPTION:Bion and Winnicott–A Clinical Dialogue\, featuring Nicola Abel-Hirsch and Sira Dermen of London. Learn more…
URL:https://p-c-c.org/pcc-event/lectures-in-comparative-psychoanalysis-part-3/
LOCATION:New Center for Psychoanalysis\, 2014 Sawtelle Blvd.\, Los Angeles\, CA\, 90025\, United States
CATEGORIES:Continuing Education Programs,PCC Events
END:VEVENT
BEGIN:VEVENT
DTSTART;TZID=America/Los_Angeles:20180322T200000
DTEND;TZID=America/Los_Angeles:20180322T220000
DTSTAMP:20260423T132023
CREATED:20180312T174432Z
LAST-MODIFIED:20180313T042100Z
UID:20864-1521748800-1521756000@p-c-c.org
SUMMARY:Lectures in Comparative Psychoanalysis\, Part 2
DESCRIPTION: Reconsidering Bion and Winnicott’s Clinical Exchanges—A Comparative Study\, featuring Dr. Joe Aguayo of PCC. Learn more…
URL:https://p-c-c.org/pcc-event/lectures-in-comparative-psychoanalysis-part-2/
LOCATION:New Center for Psychoanalysis\, 2014 Sawtelle Blvd.\, Los Angeles\, CA\, 90025\, United States
CATEGORIES:Continuing Education Programs,PCC Events
END:VEVENT
BEGIN:VEVENT
DTSTART;TZID=America/Los_Angeles:20180308T200000
DTEND;TZID=America/Los_Angeles:20180308T213000
DTSTAMP:20260423T132023
CREATED:20180312T173727Z
LAST-MODIFIED:20180312T173727Z
UID:20748-1520539200-1520544600@p-c-c.org
SUMMARY:Lectures in Comparative Psychoanalysis\, Part 1
DESCRIPTION:For more information about the James Grotstein Memorial Lectures in Comparative Psychoanalysis\, please visit n-c-p.org
URL:https://p-c-c.org/pcc-event/lectures-in-comparative-psychoanalysis-part-1/
LOCATION:New Center for Psychoanalysis\, 2014 Sawtelle Blvd.\, Los Angeles\, CA\, 90025\, United States
CATEGORIES:Continuing Education Programs,PCC Events
END:VEVENT
END:VCALENDAR