BEGIN:VCALENDAR
VERSION:2.0
PRODID:-//The Psychoanalytic Center of California - ECPv6.15.20//NONSGML v1.0//EN
CALSCALE:GREGORIAN
METHOD:PUBLISH
X-WR-CALNAME:The Psychoanalytic Center of California
X-ORIGINAL-URL:https://p-c-c.org
X-WR-CALDESC:Events for The Psychoanalytic Center of California
REFRESH-INTERVAL;VALUE=DURATION:PT1H
X-Robots-Tag:noindex
X-PUBLISHED-TTL:PT1H
BEGIN:VTIMEZONE
TZID:America/Los_Angeles
BEGIN:DAYLIGHT
TZOFFSETFROM:-0800
TZOFFSETTO:-0700
TZNAME:PDT
DTSTART:20250309T100000
END:DAYLIGHT
BEGIN:STANDARD
TZOFFSETFROM:-0700
TZOFFSETTO:-0800
TZNAME:PST
DTSTART:20251102T090000
END:STANDARD
BEGIN:DAYLIGHT
TZOFFSETFROM:-0800
TZOFFSETTO:-0700
TZNAME:PDT
DTSTART:20260308T100000
END:DAYLIGHT
BEGIN:STANDARD
TZOFFSETFROM:-0700
TZOFFSETTO:-0800
TZNAME:PST
DTSTART:20261101T090000
END:STANDARD
BEGIN:DAYLIGHT
TZOFFSETFROM:-0800
TZOFFSETTO:-0700
TZNAME:PDT
DTSTART:20270314T100000
END:DAYLIGHT
BEGIN:STANDARD
TZOFFSETFROM:-0700
TZOFFSETTO:-0800
TZNAME:PST
DTSTART:20271107T090000
END:STANDARD
END:VTIMEZONE
BEGIN:VEVENT
DTSTART;TZID=America/Los_Angeles:20260214T090000
DTEND;TZID=America/Los_Angeles:20260214T121500
DTSTAMP:20260425T093301
CREATED:20260107T052411Z
LAST-MODIFIED:20260107T053232Z
UID:30172-1771059600-1771071300@p-c-c.org
SUMMARY:Infantile Trauma and Transformations:  The Application of Infant Observation to Clinical Work with Children and Adults
DESCRIPTION:PCC’s Infant Observation Committee has dedicated this year’s Infant Observation Conference to showcasing the work of Alessandra Cavalli\, Ph.D. and her unique model of infant observation which integrates Jung\, Klein and Bion’s thinking in analytic work with children and adults. Learn more.
URL:https://p-c-c.org/pcc-event/infantile-trauma-and-transformations-the-application-of-infant-observation-to-clinical-work-with-children-and-adults/
LOCATION:New Center for Psychoanalysis\, 2014 Sawtelle Blvd.\, Los Angeles\, CA\, 90025\, United States
CATEGORIES:Candidates,Continuing Education Programs,Outreach Events,PCC Events
END:VEVENT
BEGIN:VEVENT
DTSTART;TZID=America/Los_Angeles:20260314T090000
DTEND;TZID=America/Los_Angeles:20260314T121500
DTSTAMP:20260425T093301
CREATED:20260107T051515Z
LAST-MODIFIED:20260207T014458Z
UID:30170-1773478800-1773490500@p-c-c.org
SUMMARY:Hope and the Machine:  Thriving in\, Not Just Surviving\, the AI Revolution with Todd Essig\, PhD
DESCRIPTION:Dr. Todd Essig will discuss Hope and the Machine:  Thriving in\, Not Just Surviving\, the AI Revolution.  Learn More.
URL:https://p-c-c.org/pcc-event/artificial-intelligence-ai-and-psychoanalysis-with-todd-essig-phd/
CATEGORIES:Continuing Education Programs,Outreach Events,PCC Events,PCC Members
END:VEVENT
BEGIN:VEVENT
DTSTART;TZID=America/Los_Angeles:20260322T110000
DTEND;TZID=America/Los_Angeles:20260322T140000
DTSTAMP:20260425T093301
CREATED:20260207T015006Z
LAST-MODIFIED:20260220T172249Z
UID:30242-1774177200-1774188000@p-c-c.org
SUMMARY:PCC Open House 2026
DESCRIPTION:Join us for the PCC’s Annual Open House 2026.  Dr. Jennifer Kunst will discuss\, “Sowing and Reaping the Seeds of Change:  Evolving Models from Freud to Klein and Beyond”.  Learn More.
URL:https://p-c-c.org/pcc-event/pcc-open-house-2026/
LOCATION:Hybrid – In-Person and Virtual\, 3200 Motor Avenue\, Los Angeles\, 90034\, United States
CATEGORIES:Outreach Events,PCC Events
END:VEVENT
BEGIN:VEVENT
DTSTART;TZID=America/Los_Angeles:20260419T100000
DTEND;TZID=America/Los_Angeles:20260419T133000
DTSTAMP:20260425T093301
CREATED:20260207T015716Z
LAST-MODIFIED:20260408T163452Z
UID:30245-1776592800-1776605400@p-c-c.org
SUMMARY:OUTSIDER.FREUD Fundraiser and Film Screening followed by a Discussion with the Director Yair Qedar and Christfried Togel\, Freud Biographer
DESCRIPTION:Join us for a Film Screening of the “OUTSIDER. FREUD”\, followed by a Discussion with Director Yaie Qedar and Christfried Toegel\, Freud Biographer. Learn More.
URL:https://p-c-c.org/pcc-event/save-the-date-outsider-freud-film-screening-and-a-discussion-with-the-director-yair-qedar/
LOCATION:Glorya Kaufman Performing Arts Center at Vista Del Mar\, 3200 Motor Avenue\, Los Angeles\, CA\, 90034
CATEGORIES:Outreach Events,PCC Events
END:VEVENT
BEGIN:VEVENT
DTSTART;TZID=America/Los_Angeles:20260425T090000
DTEND;TZID=America/Los_Angeles:20260425T121500
DTSTAMP:20260425T093301
CREATED:20260408T163159Z
LAST-MODIFIED:20260408T163159Z
UID:30348-1777107600-1777119300@p-c-c.org
SUMMARY:A Cure Through Love? with Dr. Judy Eekhoff
DESCRIPTION:Join the PCC for “A Cure Through Love?” half-day conference with Judy Eekhoff\, Ph.D. Learn More.
URL:https://p-c-c.org/pcc-event/a-cure-through-love-with-dr-judy-eekhoff/
LOCATION:Zoom online
CATEGORIES:Continuing Education Programs,Outreach Events,PCC Events
END:VEVENT
END:VCALENDAR