BEGIN:VCALENDAR
VERSION:2.0
PRODID:-//The Psychoanalytic Center of California - ECPv6.15.20//NONSGML v1.0//EN
CALSCALE:GREGORIAN
METHOD:PUBLISH
X-WR-CALNAME:The Psychoanalytic Center of California
X-ORIGINAL-URL:https://p-c-c.org
X-WR-CALDESC:Events for The Psychoanalytic Center of California
REFRESH-INTERVAL;VALUE=DURATION:PT1H
X-Robots-Tag:noindex
X-PUBLISHED-TTL:PT1H
BEGIN:VTIMEZONE
TZID:America/Los_Angeles
BEGIN:DAYLIGHT
TZOFFSETFROM:-0800
TZOFFSETTO:-0700
TZNAME:PDT
DTSTART:20160313T100000
END:DAYLIGHT
BEGIN:STANDARD
TZOFFSETFROM:-0700
TZOFFSETTO:-0800
TZNAME:PST
DTSTART:20161106T090000
END:STANDARD
BEGIN:DAYLIGHT
TZOFFSETFROM:-0800
TZOFFSETTO:-0700
TZNAME:PDT
DTSTART:20170312T100000
END:DAYLIGHT
BEGIN:STANDARD
TZOFFSETFROM:-0700
TZOFFSETTO:-0800
TZNAME:PST
DTSTART:20171105T090000
END:STANDARD
BEGIN:DAYLIGHT
TZOFFSETFROM:-0800
TZOFFSETTO:-0700
TZNAME:PDT
DTSTART:20180311T100000
END:DAYLIGHT
BEGIN:STANDARD
TZOFFSETFROM:-0700
TZOFFSETTO:-0800
TZNAME:PST
DTSTART:20181104T090000
END:STANDARD
END:VTIMEZONE
BEGIN:VEVENT
DTSTART;TZID=America/Los_Angeles:20171017T193000
DTEND;TZID=America/Los_Angeles:20171017T213000
DTSTAMP:20260425T205604
CREATED:20170710T191900Z
LAST-MODIFIED:20170906T235446Z
UID:19060-1508268600-1508275800@p-c-c.org
SUMMARY:The Richness of Contemporary Psychoanalytic Research with Marianne Leuzinger-Bohleber
DESCRIPTION:Join us for the special evening presentation to hear Professor Marianne Leuzinger-Bohleber of Germany\, The Richness of Contemporary Psychoanalytic Research. Learn more… \nRegister here\n 
URL:https://p-c-c.org/pcc-event/an-open-door-review-of-outcome-research-in-psychoanalysis-with-marianne-leuzinger-bohleber/
LOCATION:PCC Conference Center\, 11500 W. Olympic Blvd. Suite 505\, Los Angeles\, CA\, 90064
CATEGORIES:Continuing Education Programs,PCC Events
END:VEVENT
BEGIN:VEVENT
DTSTART;TZID=America/Los_Angeles:20171010T190000
DTEND;TZID=America/Los_Angeles:20171010T213000
DTSTAMP:20260425T205604
CREATED:20170914T192610Z
LAST-MODIFIED:20170914T205914Z
UID:19521-1507662000-1507671000@p-c-c.org
SUMMARY:ICAPP Clinical Series - Working Analytically with Young People
DESCRIPTION:The ICAPP Clinical Series Program presents a 5- part series\, Working Analytically with Young People! Join us for session one\, featuring Dr. Patricia O’Brien\, Ph.D. Learn more… \n  \nRegister Here\n  \n 
URL:https://p-c-c.org/pcc-event/icapp-clinical-series-working-analytically-with-young-people/
LOCATION:Psychoanalytic Center of California\, 11500 W. Olympic Blvd.\, Suite 445\, Los Angeles\, CA\, 90064\, United States
CATEGORIES:Continuing Education Programs,PCC Events
ATTACH;FMTTYPE=image/jpeg:https://p-c-c.org/wp-content/uploads/2017/09/ICAPP-Logo.jpg
END:VEVENT
BEGIN:VEVENT
DTSTART;TZID=America/Los_Angeles:20171005T190000
DTEND;TZID=America/Los_Angeles:20171005T220000
DTSTAMP:20260425T205604
CREATED:20170701T153541Z
LAST-MODIFIED:20170701T153541Z
UID:19028-1507230000-1507240800@p-c-c.org
SUMMARY:First Day of Classes (PPP-LA)
DESCRIPTION:
URL:https://p-c-c.org/pcc-event/first-day-of-classes-ppp-la/
LOCATION:Psychoanalytic Center of California\, 11500 W. Olympic Blvd.\, Suite 445\, Los Angeles\, CA\, 90064\, United States
CATEGORIES:Institute or Society Meetings
END:VEVENT
BEGIN:VEVENT
DTSTART;TZID=America/Los_Angeles:20170928T190000
DTEND;TZID=America/Los_Angeles:20170928T203000
DTSTAMP:20260425T205604
CREATED:20170701T153407Z
LAST-MODIFIED:20170701T153407Z
UID:19026-1506625200-1506630600@p-c-c.org
SUMMARY:PPP Orientation
DESCRIPTION:
URL:https://p-c-c.org/pcc-event/ppp-orientation/
LOCATION:Psychoanalytic Center of California\, 11500 W. Olympic Blvd.\, Suite 445\, Los Angeles\, CA\, 90064\, United States
END:VEVENT
BEGIN:VEVENT
DTSTART;TZID=America/Los_Angeles:20170913T193000
DTEND;TZID=America/Los_Angeles:20170913T213000
DTSTAMP:20260425T205604
CREATED:20170701T153907Z
LAST-MODIFIED:20170714T050449Z
UID:19030-1505331000-1505338200@p-c-c.org
SUMMARY:Scientific Meeting with John Lundgren
DESCRIPTION:PCC members and candidates are invited to this in-house scientific meeting with John Lundgren\, in preparation for the Faculty Senate Retreat. Members fee is $25 and Candidates are free! Learn more… \nRegister Here
URL:https://p-c-c.org/pcc-event/scientific-meeting-with-john-lundgren/
LOCATION:Psychoanalytic Center of California\, 11500 W. Olympic Blvd.\, Suite 445\, Los Angeles\, CA\, 90064\, United States
CATEGORIES:Continuing Education Programs,Institute or Society Meetings
END:VEVENT
BEGIN:VEVENT
DTSTART;TZID=America/Los_Angeles:20170913T080000
DTEND;TZID=America/Los_Angeles:20170913T120000
DTSTAMP:20260425T205604
CREATED:20170701T153232Z
LAST-MODIFIED:20170701T153232Z
UID:19024-1505289600-1505304000@p-c-c.org
SUMMARY:First Day of Classes (Core Program)
DESCRIPTION:
URL:https://p-c-c.org/pcc-event/first-day-of-classes-core-program/
LOCATION:CA
CATEGORIES:Institute or Society Meetings
END:VEVENT
BEGIN:VEVENT
DTSTART;VALUE=DATE:20170904
DTEND;VALUE=DATE:20170905
DTSTAMP:20260425T205604
CREATED:20170717T203234Z
LAST-MODIFIED:20170717T203301Z
UID:19183-1504483200-1504569599@p-c-c.org
SUMMARY:Labor Day
DESCRIPTION:
URL:https://p-c-c.org/pcc-event/labor-day/
LOCATION:CA
END:VEVENT
BEGIN:VEVENT
DTSTART;TZID=America/Los_Angeles:20170805T103000
DTEND;TZID=America/Los_Angeles:20170805T120000
DTSTAMP:20260425T205604
CREATED:20170701T155259Z
LAST-MODIFIED:20170701T155259Z
UID:19041-1501929000-1501934400@p-c-c.org
SUMMARY:Outreach Committee's Summer Series (session 6)
DESCRIPTION:
URL:https://p-c-c.org/pcc-event/outreach-committees-summer-series-session-6/
LOCATION:Psychoanalytic Center of California\, 11500 W. Olympic Blvd.\, Suite 445\, Los Angeles\, CA\, 90064\, United States
CATEGORIES:Outreach Events
END:VEVENT
BEGIN:VEVENT
DTSTART;TZID=America/Los_Angeles:20170729T103000
DTEND;TZID=America/Los_Angeles:20170729T120000
DTSTAMP:20260425T205604
CREATED:20170701T155201Z
LAST-MODIFIED:20170701T155201Z
UID:19039-1501324200-1501329600@p-c-c.org
SUMMARY:Outreach Committee's Summer Series (session 5)
DESCRIPTION:
URL:https://p-c-c.org/pcc-event/outreach-committees-summer-series-session-5/
LOCATION:Psychoanalytic Center of California\, 11500 W. Olympic Blvd.\, Suite 445\, Los Angeles\, CA\, 90064\, United States
CATEGORIES:Outreach Events
END:VEVENT
BEGIN:VEVENT
DTSTART;TZID=America/Los_Angeles:20170722T103000
DTEND;TZID=America/Los_Angeles:20170722T120000
DTSTAMP:20260425T205604
CREATED:20170701T155104Z
LAST-MODIFIED:20170701T155104Z
UID:19037-1500719400-1500724800@p-c-c.org
SUMMARY:Outreach Committee's Summer Series (session 4)
DESCRIPTION:
URL:https://p-c-c.org/pcc-event/outreach-committees-summer-series-session-4/
LOCATION:Psychoanalytic Center of California\, 11500 W. Olympic Blvd.\, Suite 445\, Los Angeles\, CA\, 90064\, United States
CATEGORIES:Outreach Events
END:VEVENT
BEGIN:VEVENT
DTSTART;TZID=America/Los_Angeles:20170715T103000
DTEND;TZID=America/Los_Angeles:20170715T120000
DTSTAMP:20260425T205604
CREATED:20170701T155005Z
LAST-MODIFIED:20170701T155005Z
UID:19035-1500114600-1500120000@p-c-c.org
SUMMARY:Outreach Committee's Summer Series (session 3)
DESCRIPTION:
URL:https://p-c-c.org/pcc-event/outreach-committees-summer-series-session-3/
LOCATION:Psychoanalytic Center of California\, 11500 W. Olympic Blvd.\, Suite 445\, Los Angeles\, CA\, 90064\, United States
CATEGORIES:Outreach Events
END:VEVENT
BEGIN:VEVENT
DTSTART;TZID=America/Los_Angeles:20170708T103000
DTEND;TZID=America/Los_Angeles:20170708T120000
DTSTAMP:20260425T205604
CREATED:20170701T154512Z
LAST-MODIFIED:20170701T154706Z
UID:19032-1499509800-1499515200@p-c-c.org
SUMMARY:Outreach Committee's Summer Series (session 2)
DESCRIPTION:The PCC Outreach Committee presents this 6 week summer series\, “Object Relations in Everyday Life.” Registration for the whole series is required.
URL:https://p-c-c.org/pcc-event/outreach-committees-summer-series/
LOCATION:Psychoanalytic Center of California\, 11500 W. Olympic Blvd.\, Suite 445\, Los Angeles\, CA\, 90064\, United States
CATEGORIES:Outreach Events
END:VEVENT
BEGIN:VEVENT
DTSTART;TZID=America/Los_Angeles:20170624T103000
DTEND;TZID=America/Los_Angeles:20170624T120000
DTSTAMP:20260425T205604
CREATED:20170523T185628Z
LAST-MODIFIED:20170523T230551Z
UID:18833-1498300200-1498305600@p-c-c.org
SUMMARY:Summer Series\, "Object Relations in Clinical and Everyday Life"
DESCRIPTION:PCC’s Outreach Committee presents a Summer Series entitled\, “Object Relations in Clinical and Everyday Life”.  The series will take place on Saturdays June 24\, July 8\, July 15\, July 22\, July 29 and August 5\, 2017 from 10:30 am to 12:00 pm at the PCC Office. Please join us for a rich presentation and engaging conversation. \nRegister here
URL:https://p-c-c.org/pcc-event/summer-lecture-series-object-relations-in-clinical-and-everyday-life/
LOCATION:PCC Conference Center\, 11500 W. Olympic Blvd. Suite 505\, Los Angeles\, CA\, 90064
CATEGORIES:Outreach Events
ATTACH;FMTTYPE=image/jpeg:https://p-c-c.org/wp-content/uploads/2017/05/font-b-books-b-font-the-font-b-old-b-font-stack-glasses-sheets-tape.jpg
END:VEVENT
BEGIN:VEVENT
DTSTART;TZID=America/Los_Angeles:20170610T140000
DTEND;TZID=America/Los_Angeles:20170610T160000
DTSTAMP:20260425T205604
CREATED:20170517T182434Z
LAST-MODIFIED:20170517T183324Z
UID:18722-1497103200-1497110400@p-c-c.org
SUMMARY:Founders Luncheon
DESCRIPTION:Join the PCC for a Luncheon in Honor of Drs. James Gooch\, Shirley Gooch\, Yvonne Hansen\, Albert Mason\, Avedis Panajian\, Michael Paul\, Fred Vaquer and Murray Weiler. \nThis invitation is extended to Members and Candidates of All Psychoanalytic Institutes in Los Angeles. We look forward to seeing you there! \nRegister Here\n  \n 
URL:https://p-c-c.org/pcc-event/founders-luncheon/
LOCATION:New Center for Psychoanalysis\, 2014 Sawtelle Blvd.\, Los Angeles\, CA\, 90025\, United States
CATEGORIES:PCC Events
ATTACH;FMTTYPE=image/jpeg:https://p-c-c.org/wp-content/uploads/2017/05/crown-ladies-luncheon-at-david-jones-700x490.jpg
END:VEVENT
BEGIN:VEVENT
DTSTART;TZID=America/Los_Angeles:20170610T090000
DTEND;TZID=America/Los_Angeles:20170610T123000
DTSTAMP:20260425T205604
CREATED:20161111T045143Z
LAST-MODIFIED:20170425T191301Z
UID:16725-1497085200-1497097800@p-c-c.org
SUMMARY:Psychoanalysis Today featuring Albert Mason
DESCRIPTION:The Extension Program presents a 5-part series\, Psychoanalysis Today\, celebrating the 30th anniversary of the PCC Institute! Join us for session five\, Psychoanalysis Today! Why Practice Psychoanalysis\, featuring Albert Mason. Learn more… \nRegister Here\n 
URL:https://p-c-c.org/pcc-event/psychoanalysis-today-featuring-albert-mason/
LOCATION:Psychoanalytic Center of California\, 11500 W. Olympic Blvd.\, Suite 445\, Los Angeles\, CA\, 90064\, United States
CATEGORIES:Continuing Education Programs,PCC Events
END:VEVENT
BEGIN:VEVENT
DTSTART;TZID=America/Los_Angeles:20170513T100000
DTEND;TZID=America/Los_Angeles:20170513T130000
DTSTAMP:20260425T205604
CREATED:20170317T190250Z
LAST-MODIFIED:20170317T190250Z
UID:18377-1494669600-1494680400@p-c-c.org
SUMMARY:Spring Clinical Café featuring Dr. Jeanette Gadt
DESCRIPTION:PCC’s Outreach Committee presents the spring Clinical Cafe on May 13\, 2017 from 10 am to 1 pm at the PCC Office. It features a presentation and discussion by Dr. Jeanette Gadt\, The Missing Self in the Treatment of Obsessive-Compulsive Disorders: Normal\, Defensive and Pathological Omnipotence. Please join us for a rich presentation\, engaging conversation\, and great refreshments! Learn more… \nRegister here
URL:https://p-c-c.org/pcc-event/spring-clinical-cafe-featuring-dr-jeanette-gadt/
LOCATION:Psychoanalytic Center of California\, 11500 W. Olympic Blvd.\, Suite 445\, Los Angeles\, CA\, 90064\, United States
CATEGORIES:Outreach Events
ATTACH;FMTTYPE=image/jpeg:https://p-c-c.org/wp-content/uploads/2016/02/7f0cab70-3663-442c-a4ab-3cd4c1bb9d22.jpe
END:VEVENT
BEGIN:VEVENT
DTSTART;TZID=America/Los_Angeles:20170430T133000
DTEND;TZID=America/Los_Angeles:20170430T153000
DTSTAMP:20260425T205604
CREATED:20170315T150157Z
LAST-MODIFIED:20170316T010326Z
UID:18343-1493559000-1493566200@p-c-c.org
SUMMARY:Master Class with Clara Nemas (PCC candidates only)
DESCRIPTION:PCC candidates are invited to join us for a master class with Clara Nemas. We will explore together a clinical case. Learn more… \nRegister here
URL:https://p-c-c.org/pcc-event/master-class-with-clara-nemas-pcc-candidates-only/
LOCATION:Psychoanalytic Center of California\, 11500 W. Olympic Blvd.\, Suite 445\, Los Angeles\, CA\, 90064\, United States
CATEGORIES:Continuing Education Programs
END:VEVENT
BEGIN:VEVENT
DTSTART;TZID=America/Los_Angeles:20170430T100000
DTEND;TZID=America/Los_Angeles:20170430T120000
DTSTAMP:20260425T205604
CREATED:20170315T150037Z
LAST-MODIFIED:20170316T010123Z
UID:18341-1493546400-1493553600@p-c-c.org
SUMMARY:Master Class with Clara Nemas (PCC members only)
DESCRIPTION:PCC members are invited to join us for a master class with Clara Nemas. We will explore together a clinical case. Learn more… \nRegister here
URL:https://p-c-c.org/pcc-event/master-class-with-clara-nemas-pcc-members-only/
LOCATION:Psychoanalytic Center of California\, 11500 W. Olympic Blvd.\, Suite 445\, Los Angeles\, CA\, 90064\, United States
CATEGORIES:Continuing Education Programs
END:VEVENT
BEGIN:VEVENT
DTSTART;TZID=America/Los_Angeles:20170429T190000
DTEND;TZID=America/Los_Angeles:20170429T220000
DTSTAMP:20260425T205604
CREATED:20170317T040142Z
LAST-MODIFIED:20170317T040321Z
UID:18364-1493492400-1493503200@p-c-c.org
SUMMARY:PCC Member Dinner with Clara Nemas
DESCRIPTION:PCC members and their guests are invited to a dinner at Upstairs 2 in honor of Dr. Clara Nemas\, the keynote speaker at this year’s Melanie Klein Lecture. \nRegister here
URL:https://p-c-c.org/pcc-event/pcc-member-dinner-with-clara-nemas/
LOCATION:Upstairs 2 Restaurant\, 2311 Cotner Ave.\, Los Angeles\, CA\, 90048
CATEGORIES:PCC Events
END:VEVENT
BEGIN:VEVENT
DTSTART;TZID=America/Los_Angeles:20170429T090000
DTEND;TZID=America/Los_Angeles:20170429T160000
DTSTAMP:20260425T205604
CREATED:20160526T071707Z
LAST-MODIFIED:20170303T051914Z
UID:14449-1493456400-1493481600@p-c-c.org
SUMMARY:28th Annual Melanie Klein Lecture featuring Clara Nemas
DESCRIPTION:28th Annual Melanie Klein Lecture featuring Clara Nemas\, MD\, Argentina\nJoin us for this innovative conference\, “Creating Potential Space: Imagination and Countertransference\,” in which Dr. Clara Nemas will explore the contributions of Kleinian psychoanalysts from Latin America. Learn more… \nRegister here
URL:https://p-c-c.org/pcc-event/28th-annual-melanie-klein-lecture/
LOCATION:New Center for Psychoanalysis\, 2014 Sawtelle Blvd.\, Los Angeles\, CA\, 90025\, United States
CATEGORIES:Continuing Education Programs
END:VEVENT
BEGIN:VEVENT
DTSTART;TZID=America/Los_Angeles:20170420T200000
DTEND;TZID=America/Los_Angeles:20170420T220000
DTSTAMP:20260425T205604
CREATED:20170213T203406Z
LAST-MODIFIED:20170213T203406Z
UID:17792-1492718400-1492725600@p-c-c.org
SUMMARY:Klein\, Winnicott\, and Bion: Part 3
DESCRIPTION:Join us at NCP for part three of a three-part series jointly supported by PCC\, NCP\, and LAISPS: Klein\, Winnicott\, and Bion: Clinical Convergence and Theoretical Differences.  Learn more…
URL:https://p-c-c.org/pcc-event/klein-winnicott-and-bion-part-3/
LOCATION:New Center for Psychoanalysis\, 2014 Sawtelle Blvd.\, Los Angeles\, CA\, 90025\, United States
CATEGORIES:Continuing Education Programs
END:VEVENT
BEGIN:VEVENT
DTSTART;TZID=America/Los_Angeles:20170413T200000
DTEND;TZID=America/Los_Angeles:20170413T220000
DTSTAMP:20260425T205604
CREATED:20170213T202922Z
LAST-MODIFIED:20170213T203205Z
UID:17787-1492113600-1492120800@p-c-c.org
SUMMARY:Klein\, Winnicott\, and Bion: Part 2
DESCRIPTION:Join us at NCP for part two of a three-part series jointly supported by PCC\, NCP\, and LAISPS: Klein\, Winnicott\, and Bion: Clinical Convergence and Theoretical Differences.  Learn more…
URL:https://p-c-c.org/pcc-event/klein-winnicott-and-bion-part-2/
LOCATION:New Center for Psychoanalysis\, 2014 Sawtelle Blvd.\, Los Angeles\, CA\, 90025\, United States
CATEGORIES:Continuing Education Programs
END:VEVENT
BEGIN:VEVENT
DTSTART;TZID=America/Los_Angeles:20170408T093000
DTEND;TZID=America/Los_Angeles:20170408T133000
DTSTAMP:20260425T205604
CREATED:20170309T173228Z
LAST-MODIFIED:20170309T180105Z
UID:18300-1491643800-1491658200@p-c-c.org
SUMMARY:PCC's Saturday Cinema - Elle
DESCRIPTION:Join us for Director Paul Verhoeven’s “ELLE” starring Academy Award Nominee for Best Actress Isabelle Huppert as Michèle. Following our showing of ELLE\, Sandra E. Cohen\, Ph.D.\, PCC Training Analyst\, will conduct an analysis and discussion of the film focused on trauma\, perversion\, and what triumph has to do with it. Learn more… \nRegister here
URL:https://p-c-c.org/pcc-event/pccs-saturday-cinema/
LOCATION:PCC Conference Center\, 11500 W. Olympic Blvd. Suite 505\, Los Angeles\, CA\, 90064
CATEGORIES:Outreach Events,PCC Events
END:VEVENT
BEGIN:VEVENT
DTSTART;TZID=America/Los_Angeles:20170401T090000
DTEND;TZID=America/Los_Angeles:20170401T123000
DTSTAMP:20260425T205604
CREATED:20161111T044630Z
LAST-MODIFIED:20170301T161916Z
UID:16718-1491037200-1491049800@p-c-c.org
SUMMARY:Psychoanalysis Today featuring Yvonne Hansen
DESCRIPTION:The Extension Program presents a 5-part series\, Psychoanalysis Today\, celebrating the 30th anniversary of the PCC Institute! Join us for session four\, Psychoanalysis Today! Why Infant Observation\, featuring Yvonne Hansen. Learn more… \nRegister Here\n 
URL:https://p-c-c.org/pcc-event/psychoanalysis-today-featuring-yvonne-hansen/
LOCATION:Psychoanalytic Center of California\, 11500 W. Olympic Blvd.\, Suite 445\, Los Angeles\, CA\, 90064\, United States
CATEGORIES:Continuing Education Programs,PCC Events
END:VEVENT
BEGIN:VEVENT
DTSTART;TZID=America/Los_Angeles:20170326T110000
DTEND;TZID=America/Los_Angeles:20170326T140000
DTSTAMP:20260425T205604
CREATED:20161123T222935Z
LAST-MODIFIED:20170208T170213Z
UID:16777-1490526000-1490536800@p-c-c.org
SUMMARY:PCC Open House
DESCRIPTION:The Psychoanalytic Center cordially invites you to our annual Open House. The speaker this year will be David Brooks\, Ph.D.\, Psy.D.\, FIPA Associate Dean\, Psychoanalytic Center of California\, giving a talk on “The Mind from the Beginning and its Relevance to Psychoanalytic Treatment.”  Learn more… \nRegister Here\n 
URL:https://p-c-c.org/pcc-event/pcc-open-house/
LOCATION:PCC Conference Center\, 11500 W. Olympic Blvd. Suite 505\, Los Angeles\, CA\, 90064
CATEGORIES:PCC Events
END:VEVENT
BEGIN:VEVENT
DTSTART;TZID=America/Los_Angeles:20170323T200000
DTEND;TZID=America/Los_Angeles:20170323T220000
DTSTAMP:20260425T205604
CREATED:20170213T202352Z
LAST-MODIFIED:20170322T201114Z
UID:17776-1490299200-1490306400@p-c-c.org
SUMMARY:Klein\, Winnicott\, and Bion: Part 1
DESCRIPTION:Join us at NCP for part one of a three-part series jointly supported by PCC\, NCP\, and LAISPS: Klein\, Winnicott\, and Bion: Clinical Convergence and Theoretical Differences.  Learn more…
URL:https://p-c-c.org/pcc-event/klein-winnicott-and-bion-part-1/
LOCATION:New Center for Psychoanalysis\, 2014 Sawtelle Blvd.\, Los Angeles\, CA\, 90025\, United States
CATEGORIES:Continuing Education Programs
END:VEVENT
BEGIN:VEVENT
DTSTART;TZID=America/Los_Angeles:20170322T080000
DTEND;TZID=America/Los_Angeles:20170322T120000
DTSTAMP:20260425T205604
CREATED:20160730T163145Z
LAST-MODIFIED:20160822T000858Z
UID:15385-1490169600-1490184000@p-c-c.org
SUMMARY:First Day of Spring Trimester
DESCRIPTION:Learn more about the PCC Core Program 2016-2017 Academic Schedule
URL:https://p-c-c.org/pcc-event/first-day-of-spring-trimester/
LOCATION:Psychoanalytic Center of California\, 11500 W. Olympic Blvd.\, Suite 445\, Los Angeles\, CA\, 90064\, United States
CATEGORIES:Institute or Society Meetings
END:VEVENT
BEGIN:VEVENT
DTSTART;TZID=America/Los_Angeles:20170312T150000
DTEND;TZID=America/Los_Angeles:20170312T170000
DTSTAMP:20260425T205604
CREATED:20170307T143647Z
LAST-MODIFIED:20170307T143822Z
UID:18267-1489330800-1489338000@p-c-c.org
SUMMARY:Meet your North American IPA Board Candidates
DESCRIPTION:Members and candidates of IPA societies are invited to join us for wine and hors d’oeuvre to meet the candidates running for the North America IPA Board\, who will be with us in person or by videoconferencing. Sponsored by PCC\, LAISPS\, and NCP.
URL:https://p-c-c.org/pcc-event/meet-your-north-american-ipa-board-candidates/
LOCATION:Home of Andrea Kahn
CATEGORIES:PCC Events
END:VEVENT
BEGIN:VEVENT
DTSTART;TZID=America/Los_Angeles:20170311T100000
DTEND;TZID=America/Los_Angeles:20170311T130000
DTSTAMP:20260425T205604
CREATED:20160730T163640Z
LAST-MODIFIED:20170211T054005Z
UID:15386-1489226400-1489237200@p-c-c.org
SUMMARY:Spring Clinical Cafe featuring Jennifer Kunst
DESCRIPTION:PCC’s Outreach Committee presents the spring Clinical Cafe on March 11\, 2017 from 10 am to 1 pm at the PCC Office. It features a presentation and discussion by Dr. Jennifer Kunst\, How Can Psychoanalysis Help? Melanie Klein’s Model of Mental Health. Please join us for a rich presentation\, engaging conversation\, and great refreshments! Learn more…
URL:https://p-c-c.org/pcc-event/spring-clinical-cafe-featuring-jennifer-kunst/
LOCATION:Psychoanalytic Center of California\, 11500 W. Olympic Blvd.\, Suite 445\, Los Angeles\, CA\, 90064\, United States
CATEGORIES:Outreach Events
END:VEVENT
BEGIN:VEVENT
DTSTART;TZID=America/Los_Angeles:20170226T150000
DTEND;TZID=America/Los_Angeles:20170226T170000
DTSTAMP:20260425T205604
CREATED:20170131T171512Z
LAST-MODIFIED:20170131T171512Z
UID:17649-1488121200-1488128400@p-c-c.org
SUMMARY:Chamber Music Concert
DESCRIPTION:
URL:https://p-c-c.org/pcc-event/chamber-music-concert/
LOCATION:University Synagogue\,  11960 Sunset Boulevard\, Los Angeles\, CA\, 90049\, United States
CATEGORIES:PCC Events
END:VEVENT
END:VCALENDAR